BEGIN:VCALENDAR
VERSION:2.0
PRODID:spatie/icalendar-generator
DESCRIPTION:Events from Union County Fair
X-WR-CALDESC:Events from Union County Fair
REFRESH-INTERVAL;VALUE=DURATION:PT1440M
X-PUBLISHED-TTL:PT1440M
BEGIN:VTIMEZONE
TZID:Etc/GMT+4
BEGIN:STANDARD
DTSTART:20231120T000000Z
TZOFFSETFROM:-0400
TZOFFSETTO:-0400
END:STANDARD
END:VTIMEZONE
BEGIN:VTIMEZONE
TZID:UTC
BEGIN:STANDARD
DTSTART:20250726T084253Z
TZOFFSETFROM:+0000
TZOFFSETTO:+0000
END:STANDARD
END:VTIMEZONE
BEGIN:VEVENT
UID:39-37
DTSTAMP:20260422T084253Z
SUMMARY:Buckeye Nationals Marysville BMX
LOCATION:
ORGANIZER;CN=ucfair:MAILTO:marketing@richwoodbank.com
DTSTART;TZID=Etc/GMT+4:20240816T000000
DTEND;TZID=Etc/GMT+4:20240818T010000
X-ALT-DESC;FMTTYPE=TEXT/HTML:
CATEGORIES:General
URL;VALUE=URI:https://ohiounioncountyfair.com/mc-events/buckeye-nationals-m
 arysville-bmx/
METHOD:PUBLISH
END:VEVENT
END:VCALENDAR